BEGIN:VCALENDAR
VERSION:2.0
PRODID:-//wp-events-plugin.com//7.2.3.1//EN
BEGIN:VEVENT
UID:108@galvestonartleague.com
DTSTART;TZID=America/Chicago:20230304T180000
DTEND;TZID=America/Chicago:20230304T210000
DTSTAMP:20230219T125936Z
URL:https://galvestonartleague.com/events/artwalk-03-04-2023/
SUMMARY:March ArtWalk
DESCRIPTION:\nPresented every 6-8 weeks in partnership with downtown galler
 ies\, artist studios\, nonprofits\, and local businesses\, ArtWalk takes p
 lace inside existing art spaces. This popular event is free and open to ev
 eryone.\n\n\n\nGet the Brochure  \n
ATTACH;FMTTYPE=image/jpeg:https://galvestonartleague.com/wp-content/upload
 s/Screen-Shot-2023-02-19-at-6.55.42-AM.png
CATEGORIES:ArtWalk,Exhibits
END:VEVENT
BEGIN:VTIMEZONE
TZID:America/Chicago
X-LIC-LOCATION:America/Chicago
BEGIN:STANDARD
DTSTART:20221106T010000
TZOFFSETFROM:-0500
TZOFFSETTO:-0600
TZNAME:CST
END:STANDARD
END:VTIMEZONE
END:VCALENDAR